BEGIN:VCALENDAR
VERSION:2.0
PRODID:-//ChamberMaster//Event Calendar 2.0//EN
METHOD:PUBLISH
X-PUBLISHED-TTL:P3D
REFRESH-INTERVAL:P3D
CALSCALE:GREGORIAN
BEGIN:VEVENT
DTSTART:20251104T170000Z
DTEND:20251104T190000Z
X-MICROSOFT-CDO-ALLDAYEVENT:FALSE
SUMMARY:Women in Leadership Luncheon at Sting Bistro\, November 4\, 2025
DESCRIPTION:Women in Leadership Luncheon at the Sting Bistro\n\n11am-1pm
X-ALT-DESC;FMTTYPE=text/html:Women in Leadership Luncheon at the Sting Bistro<br />\n11am-1pm
LOCATION:Cleburne Highschool Sting Bistro 850 N River Road
UID:e.2143.41797
SEQUENCE:3
DTSTAMP:20260420T220944Z
URL:http://business.cleburnechamber.com/events/details/women-in-leadership-luncheon-at-sting-bistro-november-4-2025-41797
END:VEVENT

END:VCALENDAR
