BEGIN:VCALENDAR
VERSION:2.0
PRODID:-//ChamberMaster//Event Calendar 2.0//EN
METHOD:PUBLISH
X-PUBLISHED-TTL:P3D
REFRESH-INTERVAL:P3D
CALSCALE:GREGORIAN
BEGIN:VEVENT
DTSTART:20260416T180000Z
DTEND:20260416T190000Z
X-MICROSOFT-CDO-ALLDAYEVENT:FALSE
SUMMARY:Homeschool Hour
DESCRIPTION:Homeschool families are invited to attend an hour program each third Thursday of the month in the Cleburne Public Library program room. Reservations are required to attend the 1:00 session
X-ALT-DESC;FMTTYPE=text/html:Homeschool families are invited to attend an hour program each third Thursday of the month in the Cleburne Public Library program room. Reservations are required to attend the 1:00 session
LOCATION:Cleburne Public Library 302 W. Henderson St. Cleburne\, TX 76033
UID:e.2143.29872
SEQUENCE:3
DTSTAMP:20260425T022645Z
URL:https://business.cleburnechamber.com/events/details/homeschool-hour-01-19-2023-29872
END:VEVENT

END:VCALENDAR
