BEGIN:VCALENDAR
VERSION:2.0
PRODID:-//ChamberMaster//Event Calendar 2.0//EN
METHOD:PUBLISH
X-PUBLISHED-TTL:P3D
REFRESH-INTERVAL:P3D
CALSCALE:GREGORIAN
BEGIN:VEVENT
DTSTART;VALUE=DATE:20200601
DTEND;VALUE=DATE:20200602
TRANSP:TRANSPARENT
X-MICROSOFT-CDO-ALLDAYEVENT:TRUE
SUMMARY:Next Generation Preschool Open Enrollment
DESCRIPTION:Summer and Fall Enrollment
X-ALT-DESC;FMTTYPE=text/html:Summer and Fall Enrollment
LOCATION:Ascension Church 205 S. Ridgeway Dr.
UID:e.2143.23436
SEQUENCE:3
DTSTAMP:20260421T083443Z
URL:https://business.cleburnechamber.com/events/details/next-generation-preschool-open-enrollment-06-01-2020-23436
END:VEVENT

END:VCALENDAR
