BEGIN:VCALENDAR
VERSION:2.0
PRODID:-//ChamberMaster//Event Calendar 2.0//EN
METHOD:PUBLISH
X-PUBLISHED-TTL:P3D
REFRESH-INTERVAL:P3D
CALSCALE:GREGORIAN
BEGIN:VEVENT
DTSTART:20240425T150000Z
DTEND:20240425T153000Z
X-MICROSOFT-CDO-ALLDAYEVENT:FALSE
SUMMARY:Ribbon Cutting - Nurse Next Door Weatherford
DESCRIPTION:Join us for a Ribbon Cutting!
X-ALT-DESC;FMTTYPE=text/html:<span style="font-size:28px\;">Join us for a Ribbon Cutting!</span>
LOCATION:Chamber Office 1511 W. Henderson
UID:e.2143.35456
SEQUENCE:3
DTSTAMP:20260425T123610Z
URL:https://business.cleburnechamber.com/events/details/ribbon-cutting-nurse-next-door-weatherford-35456
END:VEVENT

END:VCALENDAR
